BEGIN:VCALENDAR
VERSION:2.0
PRODID:icalendar-ruby
CALSCALE:GREGORIAN
METHOD:PUBLISH
BEGIN:VEVENT
DTSTAMP:20260421T084638Z
UID:225-364575@lwcc.org.nz
DTSTART:20240521T073000Z
DTEND:20240521T090000Z
CLASS:PUBLIC
CREATED:20251204T114949
DESCRIPTION:
LAST-MODIFIED:20251204T114949
LOCATION:Garry & Christine Rodgers Home
SUMMARY:Diamond Harbour Connect Group
URL;VALUE=URI:https://www.lwcc.org.nz/events/diamond-harbour-connect-group/
 2024-05-21
END:VEVENT
END:VCALENDAR
