BEGIN:VCALENDAR
VERSION:2.0
PRODID:icalendar-ruby
CALSCALE:GREGORIAN
METHOD:PUBLISH
BEGIN:VEVENT
DTSTAMP:20260421T143140Z
UID:225-364578@lwcc.org.nz
DTSTART:20240611T073000Z
DTEND:20240611T090000Z
CLASS:PUBLIC
CREATED:20251204T114949
DESCRIPTION:
LAST-MODIFIED:20251204T114949
LOCATION:Garry & Christine Rodgers Home
SUMMARY:Diamond Harbour Connect Group
URL;VALUE=URI:https://www.lwcc.org.nz/events/diamond-harbour-connect-group/
 2024-06-11
END:VEVENT
END:VCALENDAR
