BEGIN:VCALENDAR
VERSION:2.0
PRODID:icalendar-ruby
CALSCALE:GREGORIAN
METHOD:PUBLISH
BEGIN:VEVENT
DTSTAMP:20260421T184012Z
UID:205-427060@lwcc.org.nz
DTSTART:20261022T063000Z
DTEND:20261022T080000Z
CLASS:PUBLIC
CREATED:20260409T104515
DESCRIPTION:
LAST-MODIFIED:20260409T104515
LOCATION:44b Halswell Junction Road\, Halswell
SUMMARY:Hobson's Connect Group
URL;VALUE=URI:https://www.lwcc.org.nz/events/hobsons-connect-group/2026-10-
 22
END:VEVENT
END:VCALENDAR
