BEGIN:VCALENDAR
VERSION:2.0
PRODID:icalendar-ruby
CALSCALE:GREGORIAN
METHOD:PUBLISH
BEGIN:VEVENT
DTSTAMP:20260422T170312Z
UID:344-431712@lwcc.org.nz
DTSTART:20260526T220000Z
DTEND:20260526T230000Z
CLASS:PUBLIC
CREATED:20260417T092402
DESCRIPTION:
LAST-MODIFIED:20260417T092402
LOCATION:Church Lounge
SUMMARY:Holy Ghost Prayer Meeting led by Nawa
URL;VALUE=URI:https://www.lwcc.org.nz/events/holy-ghost-prayer-meeting-led-
 by-nawa/2026-05-27
END:VEVENT
END:VCALENDAR
