BEGIN:VCALENDAR
VERSION:2.0
PRODID:icalendar-ruby
CALSCALE:GREGORIAN
METHOD:PUBLISH
BEGIN:VEVENT
DTSTAMP:20260423T085135Z
UID:344-435352@lwcc.org.nz
DTSTART:20260908T220000Z
DTEND:20260908T230000Z
CLASS:PUBLIC
CREATED:20260423T080403
DESCRIPTION:
LAST-MODIFIED:20260423T080403
LOCATION:Church Lounge
SUMMARY:Holy Ghost Prayer Meeting led by Nawa
URL;VALUE=URI:https://www.lwcc.org.nz/events/holy-ghost-prayer-meeting-led-
 by-nawa/2026-09-09
END:VEVENT
END:VCALENDAR
