BEGIN:VCALENDAR
VERSION:2.0
PRODID:icalendar-ruby
CALSCALE:GREGORIAN
METHOD:PUBLISH
BEGIN:VEVENT
DTSTAMP:20260421T165853Z
UID:262-431913@lwcc.org.nz
DTSTART:20260826T080000Z
DTEND:20260826T090000Z
CLASS:PUBLIC
CREATED:20260417T092956
DESCRIPTION:
LAST-MODIFIED:20260417T092956
LOCATION:Irvine's home
SUMMARY:Irvine's Connect Group
URL;VALUE=URI:https://www.lwcc.org.nz/events/irvines-connect-group/2026-08-
 26
END:VEVENT
END:VCALENDAR
