BEGIN:VCALENDAR
VERSION:2.0
PRODID:icalendar-ruby
CALSCALE:GREGORIAN
METHOD:PUBLISH
BEGIN:VEVENT
DTSTAMP:20260422T004102Z
UID:262-431917@lwcc.org.nz
DTSTART:20260923T080000Z
DTEND:20260923T090000Z
CLASS:PUBLIC
CREATED:20260417T092956
DESCRIPTION:
LAST-MODIFIED:20260417T092956
LOCATION:Irvine's home
SUMMARY:Irvine's Connect Group
URL;VALUE=URI:https://www.lwcc.org.nz/events/irvines-connect-group/2026-09-
 23
END:VEVENT
END:VCALENDAR
