BEGIN:VCALENDAR
VERSION:2.0
PRODID:icalendar-ruby
CALSCALE:GREGORIAN
METHOD:PUBLISH
BEGIN:VEVENT
DTSTAMP:20260422T050835Z
UID:262-431919@lwcc.org.nz
DTSTART:20261007T070000Z
DTEND:20261007T080000Z
CLASS:PUBLIC
CREATED:20260417T092956
DESCRIPTION:
LAST-MODIFIED:20260417T092956
LOCATION:Irvine's home
SUMMARY:Irvine's Connect Group
URL;VALUE=URI:https://www.lwcc.org.nz/events/irvines-connect-group/2026-10-
 07
END:VEVENT
END:VCALENDAR
