BEGIN:VCALENDAR
VERSION:2.0
PRODID:icalendar-ruby
CALSCALE:GREGORIAN
METHOD:PUBLISH
BEGIN:VEVENT
DTSTAMP:20260422T091906Z
UID:262-431921@lwcc.org.nz
DTSTART:20261021T070000Z
DTEND:20261021T080000Z
CLASS:PUBLIC
CREATED:20260417T092956
DESCRIPTION:
LAST-MODIFIED:20260417T092956
LOCATION:Irvine's home
SUMMARY:Irvine's Connect Group
URL;VALUE=URI:https://www.lwcc.org.nz/events/irvines-connect-group/2026-10-
 21
END:VEVENT
END:VCALENDAR
