BEGIN:VCALENDAR
VERSION:2.0
PRODID:icalendar-ruby
CALSCALE:GREGORIAN
METHOD:PUBLISH
BEGIN:VEVENT
DTSTAMP:20260421T210152Z
UID:204-426811@lwcc.org.nz
DTSTART:20261012T210000Z
DTEND:20261012T230000Z
CLASS:PUBLIC
CREATED:20260409T104235
DESCRIPTION:
LAST-MODIFIED:20260409T104235
LOCATION:Kennedy's Bush
SUMMARY:Prayer Group at Peter Stuart's home
URL;VALUE=URI:https://www.lwcc.org.nz/events/prayer-group-at-peter-stuarts-
 home/2026-10-13
END:VEVENT
END:VCALENDAR
