BEGIN:VCALENDAR
VERSION:2.0
PRODID:icalendar-ruby
CALSCALE:GREGORIAN
METHOD:PUBLISH
BEGIN:VEVENT
DTSTAMP:20260420T154930Z
UID:150-399681@lwcc.org.nz
DTSTART:20260308T060000Z
DTEND:20260308T080000Z
CLASS:PUBLIC
CREATED:20260219T101823
DESCRIPTION:For more details contact Vicki Trustrum
LAST-MODIFIED:20260219T101823
LOCATION:in the Church Office Lounge – led by Vicki Trustrum
SUMMARY:Prophetic Worship Night
URL;VALUE=URI:https://www.lwcc.org.nz/events/prophetic-worship-night/2026-0
 3-08
ATTACH;FILENAME=Worship-Night-1a.jpg;FMTTYPE=image/jpeg:https://dq5pwpg1q8r
 u0.cloudfront.net/2022/03/30/15/58/53/8617beba-b6f5-4a33-884a-5f72be03b1ad
 /Worship-Night-1a.jpg
END:VEVENT
END:VCALENDAR
